BEGIN:VCALENDAR
VERSION:2.0
PRODID:-//Level Up Management, LLC - ECPv6.15.3//NONSGML v1.0//EN
CALSCALE:GREGORIAN
METHOD:PUBLISH
X-ORIGINAL-URL:https://levelupmgtllc.com
X-WR-CALDESC:Events for Level Up Management, LLC
REFRESH-INTERVAL;VALUE=DURATION:PT1H
X-Robots-Tag:noindex
X-PUBLISHED-TTL:PT1H
BEGIN:VTIMEZONE
TZID:Asia/Shanghai
BEGIN:STANDARD
TZOFFSETFROM:+0800
TZOFFSETTO:+0800
TZNAME:CST
DTSTART:20250101T000000
END:STANDARD
END:VTIMEZONE
BEGIN:VTIMEZONE
TZID:UTC
BEGIN:STANDARD
TZOFFSETFROM:+0000
TZOFFSETTO:+0000
TZNAME:UTC
DTSTART:20250101T000000
END:STANDARD
END:VTIMEZONE
BEGIN:VEVENT
DTSTART;TZID=Asia/Shanghai:20250315T130000
DTEND;TZID=Asia/Shanghai:20250315T170000
DTSTAMP:20260423T223307
CREATED:20241023T014115Z
LAST-MODIFIED:20250314T192238Z
UID:9898-1742043600-1742058000@levelupmgtllc.com
SUMMARY:2025 Level Up Career Fair Sponsored by Level Up\,  OAME & SEI
DESCRIPTION:We are thrilled to invite you to the 2025 Career Fair\, a dynamic event focused on “Building On Ramps to Economic Wellness”\, happening on **March 15\, 2025**\, at the **OAME Building**\, in partnership with **Self Enhancement Inc. (SEI)** and the **Oregon Association of Minority Entrepreneurs (OAME)**. \n\nThe event is Free to the Public and Registration is required.\nResources: Free\nEmployer/Vendor Fee: $50\nEmployers\, Vendors\, Resources & Job Seekers Click Here to Register\n\n \n**Job Seekers:**\nThis career fair is designed with you in mind! Meet employers offering **real\, entry-level positions**\, not ghost listings\, and who are truly committed to your growth and development. You’ll also find vendors offering services and solutions to help you overcome the barriers that may be holding you back from success.**Job Seekers** \n \n**For Employers:**  \nConnect with a pool of talented\, eager entry-level workers ready to **learn\, grow\, and contribute** to your organization. This is your chance to hire motivated individuals committed to professional development and long-term success.\n**For Vendors/Resources:** \nJoin us as a vital resource\, offering services that help job seekers address challenges and seize new opportunities. Your participation will make a direct impact on improving employment outcomes in our community. \n**Special Presentation** \n \n  \nScott Hatley is the co-founder and Executive Director of Incight\, a Portland-based nonprofit organization dedicated to empowering individuals with disabilities through education\, employment\, and independence. Diagnosed with Duchenne Muscular Dystrophy at a young age\, Scott has transformed personal challenges into a lifelong mission to create opportunities for others facing similar obstacles. \n  \n**Workshops by** \nLegacy Health Systems:  Interviewing Tips \nGoodWill Industries Job Solutions:  Resume Tips \n  \n**Resources/Vendors** \nClick For More Details \n \n \n \n \n \n \n \n \n\n**Employers**
URL:https://levelupmgtllc.com/event/2025-level-up-career-fair-sponsored-by-level-up-oame-sei/
LOCATION:OAME\, 731 N. Hayden Meadows Dr.\, Portland\, OR\, 97217\, United States
ATTACH;FMTTYPE=image/png:https://levelupmgtllc.com/wp-content/uploads/2024/11/Level-Up-Career-Fair-Website-3.png
END:VEVENT
BEGIN:VEVENT
DTSTART;TZID=UTC:20250313T110000
DTEND;TZID=UTC:20250313T130000
DTSTAMP:20260423T223307
CREATED:20241218T224927Z
LAST-MODIFIED:20250309T044219Z
UID:9929-1741863600-1741870800@levelupmgtllc.com
SUMMARY:Operation PDX2 Network Luncheon
DESCRIPTION:Join us for the 2nd Annual Operation PDX2 Luncheon\, a dynamic event bringing together entrepreneurs\, leaders\, and individuals passionate about the intersection of faith and work. This year’s luncheon is centered on inspiring and empowering local leaders to thrive in marketplace ministry\, offering valuable insights and support to grow your mission-driven business. \n\n		\n		\n			\n				\n			\n			\n				\n			\n			\n				\n			\n		\n\nLast year we witnessed something exceptional. If you’re like me\, you’re asking what’s next? \n\n		\n		\n			\n				\n			\n			\n				\n			\n			\n				\n			\n		\n\nWhether you’re already practicing marketplace ministry or curious about how it can integrate into your entrepreneurial journey\, Operation PDX2 is the place to be. Network with like-minded individuals from the Portland\, Oregon\, and Vancouver\, Washington area\, and discover new opportunities to align your business with a greater purpose. \nExpect thought-provoking conversations\, opportunities for collaboration\, and the chance to learn from the newly formed Christian Community Development Association (CCDA) Local Portland/Vancouver team\, whose vision and support for marketplace ministry continue to transform communities. \nWhy Attend? \n\nGain inspiration from marketplace ministry leaders\nLearn practical strategies for integrating faith with your work\nNetwork with local entrepreneurs and community changemakers\nAccess support and resources to further your mission\n\nOur Program Includes: \n\nTarah Reed\, Founder of NW Collaborative\nMatias Castaño\, Financial Coach at Birch Community Services\nKianna Lewis\, Founder of Haven LLC\nSpecial Guest Keynote: Dr. Mark Strong\n\n \nDr. Mark Strong is a devoted follower of Jesus Christ who has served as the Senior Pastor of Life Change Church in Portland\, Oregon\, since 1988. His journey of faith began at 19 after a personal encounter with Christ\, transforming his life and igniting a passion for ministry. Despite academic struggles early in life\, he earned multiple degrees\, including a Doctor of Ministry from George Fox Seminary\, and now serves on its Board of Regents. A bridge builder in Portland\, he leads 11:45\, an organization addressing gang violence\, fatherlessness\, and social challenges\, earning recognition from city officials and law enforcement. Dr. Strong is an international speaker\, author of several books—including Church for the Fatherless—and founder of the Father-Shift conference. Alongside his wife\, Marla\, he hosts the Life Change radio and television program. Married for 37 years\, they have four children and remain committed to personal\, social\, and spiritual transformation in their community and beyond. \nDon’t miss this opportunity to grow\, connect\, and make a lasting impact.  \nSecure your seat today at the Operation PDX2 Luncheon! \nLet’s Do It Again!\n \nInterested in Sponsoring this event and the future development of the Portland/Vancouver Local Network? Click Here for more information.
URL:https://levelupmgtllc.com/event/operation-pdx2-coming-soon/
LOCATION:Warner Pacific\, 2219 SE 68th Avenue\, Portland\, OR\, 97215\, United States
ATTACH;FMTTYPE=image/png:https://levelupmgtllc.com/wp-content/uploads/2025/03/Revised-Including-Key-Note-Speaker-3.png
END:VEVENT
END:VCALENDAR